BEGIN:VCALENDAR
VERSION:2.0
PRODID:-//Two Thirds Beer Co. - ECPv6.9.0//NONSGML v1.0//EN
CALSCALE:GREGORIAN
METHOD:PUBLISH
X-WR-CALNAME:Two Thirds Beer Co.
X-ORIGINAL-URL:https://twothirdsbeer.co/bar
X-WR-CALDESC:Events for Two Thirds Beer Co.
REFRESH-INTERVAL;VALUE=DURATION:PT1H
X-Robots-Tag:noindex
X-PUBLISHED-TTL:PT1H
BEGIN:VTIMEZONE
TZID:Europe/London
BEGIN:DAYLIGHT
TZOFFSETFROM:+0000
TZOFFSETTO:+0100
TZNAME:BST
DTSTART:20260329T010000
END:DAYLIGHT
BEGIN:STANDARD
TZOFFSETFROM:+0100
TZOFFSETTO:+0000
TZNAME:GMT
DTSTART:20261025T010000
END:STANDARD
END:VTIMEZONE
BEGIN:VEVENT
DTSTART;TZID=Europe/London:20260419T120000
DTEND;TZID=Europe/London:20260419T160000
DTSTAMP:20260419T141843
CREATED:20231215T124348Z
LAST-MODIFIED:20250107T102532Z
UID:10004012-1776600000-1776614400@twothirdsbeer.co
SUMMARY:Bottomless Brunch
DESCRIPTION:Bottomless brunch done our way – 90 beautiful minutes of bottomless Craft Beers\, Prosecco\, Mimosas\, Aperol Spritz\, and Cocktails\, all soaked up with two courses of the finest street food from Holy Schnitz!
URL:https://twothirdsbeer.co/bar/event/bottomless-brunch-3/2026-04-19/
LOCATION:Two Thirds Beer Co\, 434-436 Abbeydale Road\, Sheffield\, S7 1FQ\, United Kingdom
CATEGORIES:Regular Fixtures
ATTACH;FMTTYPE=image/jpeg:https://twothirdsbeer.co/bar/wp-content/uploads/sites/3/2023/12/Bottomless-Brunch-Sheffield-on-Sundays-at-Two-Thirds-1.jpg
END:VEVENT
BEGIN:VEVENT
DTSTART;TZID=Europe/London:20260421T200000
DTEND;TZID=Europe/London:20260421T220000
DTSTAMP:20260419T141843
CREATED:20221104T124224Z
LAST-MODIFIED:20250212T150426Z
UID:10003246-1776801600-1776808800@twothirdsbeer.co
SUMMARY:Quiz Night - Every Tuesday!
DESCRIPTION:Sheffield’s finest pub quiz; free entry\, a picture round\, 20 questions of general knowledge\, stand up bingo with cash prizes\, oh\, and the prize if your team is victorious? Spin the wheel for a chance to win your ENTIRE bar tab paid off in full!
URL:https://twothirdsbeer.co/bar/event/quiz-night/2026-04-21/
LOCATION:Two Thirds Beer Co\, 434-436 Abbeydale Road\, Sheffield\, S7 1FQ\, United Kingdom
CATEGORIES:Regular Fixtures
ATTACH;FMTTYPE=image/jpeg:https://twothirdsbeer.co/bar/wp-content/uploads/sites/3/2022/11/Quiz-Night.jpg
END:VEVENT
BEGIN:VEVENT
DTSTART;VALUE=DATE:20260422
DTEND;VALUE=DATE:20260423
DTSTAMP:20260419T141843
CREATED:20230328T155744Z
LAST-MODIFIED:20250107T101704Z
UID:10002728-1776816000-1776902399@twothirdsbeer.co
SUMMARY:2-4-1 Burgers - Every Wednesday 🍔
DESCRIPTION:Join us every Wednesday for Schnitzel Club!\n\nThat’s 2-4-1 on ALL Schnitzel dishes\, all Wednesday\, every Wednesday. \nSo scrap your midweek plans\, grab a pal & we’ll see you down here for 2-4-1 burgers – all night long!
URL:https://twothirdsbeer.co/bar/event/schnitzel-club-%f0%9f%90%93-2/2026-04-22/
LOCATION:Two Thirds Beer Co\, 434-436 Abbeydale Road\, Sheffield\, S7 1FQ\, United Kingdom
CATEGORIES:Regular Fixtures
ATTACH;FMTTYPE=image/jpeg:https://twothirdsbeer.co/bar/wp-content/uploads/sites/3/2023/12/2-4-1-Burgers-Buy-One-Get-One-Free-at-Two-Thirds-Sheffield.jpg
END:VEVENT
BEGIN:VEVENT
DTSTART;TZID=Europe/London:20260425T120000
DTEND;TZID=Europe/London:20260425T160000
DTSTAMP:20260419T141843
CREATED:20231215T124142Z
LAST-MODIFIED:20250107T102552Z
UID:10004366-1777118400-1777132800@twothirdsbeer.co
SUMMARY:Bottomless Brunch
DESCRIPTION:Bottomless brunch done our way – 90 beautiful minutes of bottomless Craft Beers\, Prosecco\, Mimosas\, Aperol Spritz\, and Cocktails\, all soaked up with two courses of the finest street food from Holy Schnitz!
URL:https://twothirdsbeer.co/bar/event/bottomless-brunch-2/2026-04-25/
LOCATION:Two Thirds Beer Co\, 434-436 Abbeydale Road\, Sheffield\, S7 1FQ\, United Kingdom
CATEGORIES:Regular Fixtures
ATTACH;FMTTYPE=image/jpeg:https://twothirdsbeer.co/bar/wp-content/uploads/sites/3/2023/12/Bottomless-Brunch-Sheffield-on-Saturdays-at-Two-Thirds-1.jpg
END:VEVENT
BEGIN:VEVENT
DTSTART;TZID=Europe/London:20260426T120000
DTEND;TZID=Europe/London:20260426T160000
DTSTAMP:20260419T141843
CREATED:20231215T124348Z
LAST-MODIFIED:20250107T102532Z
UID:10004013-1777204800-1777219200@twothirdsbeer.co
SUMMARY:Bottomless Brunch
DESCRIPTION:Bottomless brunch done our way – 90 beautiful minutes of bottomless Craft Beers\, Prosecco\, Mimosas\, Aperol Spritz\, and Cocktails\, all soaked up with two courses of the finest street food from Holy Schnitz!
URL:https://twothirdsbeer.co/bar/event/bottomless-brunch-3/2026-04-26/
LOCATION:Two Thirds Beer Co\, 434-436 Abbeydale Road\, Sheffield\, S7 1FQ\, United Kingdom
CATEGORIES:Regular Fixtures
ATTACH;FMTTYPE=image/jpeg:https://twothirdsbeer.co/bar/wp-content/uploads/sites/3/2023/12/Bottomless-Brunch-Sheffield-on-Sundays-at-Two-Thirds-1.jpg
END:VEVENT
BEGIN:VEVENT
DTSTART;TZID=Europe/London:20260428T200000
DTEND;TZID=Europe/London:20260428T220000
DTSTAMP:20260419T141843
CREATED:20221104T124224Z
LAST-MODIFIED:20250212T150426Z
UID:10003247-1777406400-1777413600@twothirdsbeer.co
SUMMARY:Quiz Night - Every Tuesday!
DESCRIPTION:Sheffield’s finest pub quiz; free entry\, a picture round\, 20 questions of general knowledge\, stand up bingo with cash prizes\, oh\, and the prize if your team is victorious? Spin the wheel for a chance to win your ENTIRE bar tab paid off in full!
URL:https://twothirdsbeer.co/bar/event/quiz-night/2026-04-28/
LOCATION:Two Thirds Beer Co\, 434-436 Abbeydale Road\, Sheffield\, S7 1FQ\, United Kingdom
CATEGORIES:Regular Fixtures
ATTACH;FMTTYPE=image/jpeg:https://twothirdsbeer.co/bar/wp-content/uploads/sites/3/2022/11/Quiz-Night.jpg
END:VEVENT
BEGIN:VEVENT
DTSTART;VALUE=DATE:20260429
DTEND;VALUE=DATE:20260430
DTSTAMP:20260419T141843
CREATED:20230328T155744Z
LAST-MODIFIED:20250107T101704Z
UID:10002729-1777420800-1777507199@twothirdsbeer.co
SUMMARY:2-4-1 Burgers - Every Wednesday 🍔
DESCRIPTION:Join us every Wednesday for Schnitzel Club!\n\nThat’s 2-4-1 on ALL Schnitzel dishes\, all Wednesday\, every Wednesday. \nSo scrap your midweek plans\, grab a pal & we’ll see you down here for 2-4-1 burgers – all night long!
URL:https://twothirdsbeer.co/bar/event/schnitzel-club-%f0%9f%90%93-2/2026-04-29/
LOCATION:Two Thirds Beer Co\, 434-436 Abbeydale Road\, Sheffield\, S7 1FQ\, United Kingdom
CATEGORIES:Regular Fixtures
ATTACH;FMTTYPE=image/jpeg:https://twothirdsbeer.co/bar/wp-content/uploads/sites/3/2023/12/2-4-1-Burgers-Buy-One-Get-One-Free-at-Two-Thirds-Sheffield.jpg
END:VEVENT
BEGIN:VEVENT
DTSTART;TZID=Europe/London:20260502T120000
DTEND;TZID=Europe/London:20260502T160000
DTSTAMP:20260419T141843
CREATED:20231215T124142Z
LAST-MODIFIED:20250107T102552Z
UID:10004367-1777723200-1777737600@twothirdsbeer.co
SUMMARY:Bottomless Brunch
DESCRIPTION:Bottomless brunch done our way – 90 beautiful minutes of bottomless Craft Beers\, Prosecco\, Mimosas\, Aperol Spritz\, and Cocktails\, all soaked up with two courses of the finest street food from Holy Schnitz!
URL:https://twothirdsbeer.co/bar/event/bottomless-brunch-2/2026-05-02/
LOCATION:Two Thirds Beer Co\, 434-436 Abbeydale Road\, Sheffield\, S7 1FQ\, United Kingdom
CATEGORIES:Regular Fixtures
ATTACH;FMTTYPE=image/jpeg:https://twothirdsbeer.co/bar/wp-content/uploads/sites/3/2023/12/Bottomless-Brunch-Sheffield-on-Saturdays-at-Two-Thirds-1.jpg
END:VEVENT
BEGIN:VEVENT
DTSTART;TZID=Europe/London:20260503T120000
DTEND;TZID=Europe/London:20260503T160000
DTSTAMP:20260419T141843
CREATED:20231215T124348Z
LAST-MODIFIED:20250107T102532Z
UID:10004014-1777809600-1777824000@twothirdsbeer.co
SUMMARY:Bottomless Brunch
DESCRIPTION:Bottomless brunch done our way – 90 beautiful minutes of bottomless Craft Beers\, Prosecco\, Mimosas\, Aperol Spritz\, and Cocktails\, all soaked up with two courses of the finest street food from Holy Schnitz!
URL:https://twothirdsbeer.co/bar/event/bottomless-brunch-3/2026-05-03/
LOCATION:Two Thirds Beer Co\, 434-436 Abbeydale Road\, Sheffield\, S7 1FQ\, United Kingdom
CATEGORIES:Regular Fixtures
ATTACH;FMTTYPE=image/jpeg:https://twothirdsbeer.co/bar/wp-content/uploads/sites/3/2023/12/Bottomless-Brunch-Sheffield-on-Sundays-at-Two-Thirds-1.jpg
END:VEVENT
BEGIN:VEVENT
DTSTART;TZID=Europe/London:20260505T200000
DTEND;TZID=Europe/London:20260505T220000
DTSTAMP:20260419T141843
CREATED:20221104T124224Z
LAST-MODIFIED:20250212T150426Z
UID:10003248-1778011200-1778018400@twothirdsbeer.co
SUMMARY:Quiz Night - Every Tuesday!
DESCRIPTION:Sheffield’s finest pub quiz; free entry\, a picture round\, 20 questions of general knowledge\, stand up bingo with cash prizes\, oh\, and the prize if your team is victorious? Spin the wheel for a chance to win your ENTIRE bar tab paid off in full!
URL:https://twothirdsbeer.co/bar/event/quiz-night/2026-05-05/
LOCATION:Two Thirds Beer Co\, 434-436 Abbeydale Road\, Sheffield\, S7 1FQ\, United Kingdom
CATEGORIES:Regular Fixtures
ATTACH;FMTTYPE=image/jpeg:https://twothirdsbeer.co/bar/wp-content/uploads/sites/3/2022/11/Quiz-Night.jpg
END:VEVENT
BEGIN:VEVENT
DTSTART;VALUE=DATE:20260506
DTEND;VALUE=DATE:20260507
DTSTAMP:20260419T141843
CREATED:20230328T155744Z
LAST-MODIFIED:20250107T101704Z
UID:10002730-1778025600-1778111999@twothirdsbeer.co
SUMMARY:2-4-1 Burgers - Every Wednesday 🍔
DESCRIPTION:Join us every Wednesday for Schnitzel Club!\n\nThat’s 2-4-1 on ALL Schnitzel dishes\, all Wednesday\, every Wednesday. \nSo scrap your midweek plans\, grab a pal & we’ll see you down here for 2-4-1 burgers – all night long!
URL:https://twothirdsbeer.co/bar/event/schnitzel-club-%f0%9f%90%93-2/2026-05-06/
LOCATION:Two Thirds Beer Co\, 434-436 Abbeydale Road\, Sheffield\, S7 1FQ\, United Kingdom
CATEGORIES:Regular Fixtures
ATTACH;FMTTYPE=image/jpeg:https://twothirdsbeer.co/bar/wp-content/uploads/sites/3/2023/12/2-4-1-Burgers-Buy-One-Get-One-Free-at-Two-Thirds-Sheffield.jpg
END:VEVENT
BEGIN:VEVENT
DTSTART;TZID=Europe/London:20260509T120000
DTEND;TZID=Europe/London:20260509T160000
DTSTAMP:20260419T141843
CREATED:20231215T124142Z
LAST-MODIFIED:20250107T102552Z
UID:10004368-1778328000-1778342400@twothirdsbeer.co
SUMMARY:Bottomless Brunch
DESCRIPTION:Bottomless brunch done our way – 90 beautiful minutes of bottomless Craft Beers\, Prosecco\, Mimosas\, Aperol Spritz\, and Cocktails\, all soaked up with two courses of the finest street food from Holy Schnitz!
URL:https://twothirdsbeer.co/bar/event/bottomless-brunch-2/2026-05-09/
LOCATION:Two Thirds Beer Co\, 434-436 Abbeydale Road\, Sheffield\, S7 1FQ\, United Kingdom
CATEGORIES:Regular Fixtures
ATTACH;FMTTYPE=image/jpeg:https://twothirdsbeer.co/bar/wp-content/uploads/sites/3/2023/12/Bottomless-Brunch-Sheffield-on-Saturdays-at-Two-Thirds-1.jpg
END:VEVENT
BEGIN:VEVENT
DTSTART;TZID=Europe/London:20260510T120000
DTEND;TZID=Europe/London:20260510T160000
DTSTAMP:20260419T141843
CREATED:20231215T124348Z
LAST-MODIFIED:20250107T102532Z
UID:10004015-1778414400-1778428800@twothirdsbeer.co
SUMMARY:Bottomless Brunch
DESCRIPTION:Bottomless brunch done our way – 90 beautiful minutes of bottomless Craft Beers\, Prosecco\, Mimosas\, Aperol Spritz\, and Cocktails\, all soaked up with two courses of the finest street food from Holy Schnitz!
URL:https://twothirdsbeer.co/bar/event/bottomless-brunch-3/2026-05-10/
LOCATION:Two Thirds Beer Co\, 434-436 Abbeydale Road\, Sheffield\, S7 1FQ\, United Kingdom
CATEGORIES:Regular Fixtures
ATTACH;FMTTYPE=image/jpeg:https://twothirdsbeer.co/bar/wp-content/uploads/sites/3/2023/12/Bottomless-Brunch-Sheffield-on-Sundays-at-Two-Thirds-1.jpg
END:VEVENT
BEGIN:VEVENT
DTSTART;TZID=Europe/London:20260512T200000
DTEND;TZID=Europe/London:20260512T220000
DTSTAMP:20260419T141843
CREATED:20221104T124224Z
LAST-MODIFIED:20250212T150426Z
UID:10003249-1778616000-1778623200@twothirdsbeer.co
SUMMARY:Quiz Night - Every Tuesday!
DESCRIPTION:Sheffield’s finest pub quiz; free entry\, a picture round\, 20 questions of general knowledge\, stand up bingo with cash prizes\, oh\, and the prize if your team is victorious? Spin the wheel for a chance to win your ENTIRE bar tab paid off in full!
URL:https://twothirdsbeer.co/bar/event/quiz-night/2026-05-12/
LOCATION:Two Thirds Beer Co\, 434-436 Abbeydale Road\, Sheffield\, S7 1FQ\, United Kingdom
CATEGORIES:Regular Fixtures
ATTACH;FMTTYPE=image/jpeg:https://twothirdsbeer.co/bar/wp-content/uploads/sites/3/2022/11/Quiz-Night.jpg
END:VEVENT
BEGIN:VEVENT
DTSTART;VALUE=DATE:20260513
DTEND;VALUE=DATE:20260514
DTSTAMP:20260419T141843
CREATED:20230328T155744Z
LAST-MODIFIED:20250107T101704Z
UID:10002731-1778630400-1778716799@twothirdsbeer.co
SUMMARY:2-4-1 Burgers - Every Wednesday 🍔
DESCRIPTION:Join us every Wednesday for Schnitzel Club!\n\nThat’s 2-4-1 on ALL Schnitzel dishes\, all Wednesday\, every Wednesday. \nSo scrap your midweek plans\, grab a pal & we’ll see you down here for 2-4-1 burgers – all night long!
URL:https://twothirdsbeer.co/bar/event/schnitzel-club-%f0%9f%90%93-2/2026-05-13/
LOCATION:Two Thirds Beer Co\, 434-436 Abbeydale Road\, Sheffield\, S7 1FQ\, United Kingdom
CATEGORIES:Regular Fixtures
ATTACH;FMTTYPE=image/jpeg:https://twothirdsbeer.co/bar/wp-content/uploads/sites/3/2023/12/2-4-1-Burgers-Buy-One-Get-One-Free-at-Two-Thirds-Sheffield.jpg
END:VEVENT
BEGIN:VEVENT
DTSTART;TZID=Europe/London:20260516T120000
DTEND;TZID=Europe/London:20260516T160000
DTSTAMP:20260419T141843
CREATED:20231215T124142Z
LAST-MODIFIED:20250107T102552Z
UID:10004369-1778932800-1778947200@twothirdsbeer.co
SUMMARY:Bottomless Brunch
DESCRIPTION:Bottomless brunch done our way – 90 beautiful minutes of bottomless Craft Beers\, Prosecco\, Mimosas\, Aperol Spritz\, and Cocktails\, all soaked up with two courses of the finest street food from Holy Schnitz!
URL:https://twothirdsbeer.co/bar/event/bottomless-brunch-2/2026-05-16/
LOCATION:Two Thirds Beer Co\, 434-436 Abbeydale Road\, Sheffield\, S7 1FQ\, United Kingdom
CATEGORIES:Regular Fixtures
ATTACH;FMTTYPE=image/jpeg:https://twothirdsbeer.co/bar/wp-content/uploads/sites/3/2023/12/Bottomless-Brunch-Sheffield-on-Saturdays-at-Two-Thirds-1.jpg
END:VEVENT
BEGIN:VEVENT
DTSTART;TZID=Europe/London:20260517T120000
DTEND;TZID=Europe/London:20260517T160000
DTSTAMP:20260419T141843
CREATED:20231215T124348Z
LAST-MODIFIED:20250107T102532Z
UID:10004016-1779019200-1779033600@twothirdsbeer.co
SUMMARY:Bottomless Brunch
DESCRIPTION:Bottomless brunch done our way – 90 beautiful minutes of bottomless Craft Beers\, Prosecco\, Mimosas\, Aperol Spritz\, and Cocktails\, all soaked up with two courses of the finest street food from Holy Schnitz!
URL:https://twothirdsbeer.co/bar/event/bottomless-brunch-3/2026-05-17/
LOCATION:Two Thirds Beer Co\, 434-436 Abbeydale Road\, Sheffield\, S7 1FQ\, United Kingdom
CATEGORIES:Regular Fixtures
ATTACH;FMTTYPE=image/jpeg:https://twothirdsbeer.co/bar/wp-content/uploads/sites/3/2023/12/Bottomless-Brunch-Sheffield-on-Sundays-at-Two-Thirds-1.jpg
END:VEVENT
BEGIN:VEVENT
DTSTART;TZID=Europe/London:20260519T200000
DTEND;TZID=Europe/London:20260519T220000
DTSTAMP:20260419T141843
CREATED:20221104T124224Z
LAST-MODIFIED:20250212T150426Z
UID:10003250-1779220800-1779228000@twothirdsbeer.co
SUMMARY:Quiz Night - Every Tuesday!
DESCRIPTION:Sheffield’s finest pub quiz; free entry\, a picture round\, 20 questions of general knowledge\, stand up bingo with cash prizes\, oh\, and the prize if your team is victorious? Spin the wheel for a chance to win your ENTIRE bar tab paid off in full!
URL:https://twothirdsbeer.co/bar/event/quiz-night/2026-05-19/
LOCATION:Two Thirds Beer Co\, 434-436 Abbeydale Road\, Sheffield\, S7 1FQ\, United Kingdom
CATEGORIES:Regular Fixtures
ATTACH;FMTTYPE=image/jpeg:https://twothirdsbeer.co/bar/wp-content/uploads/sites/3/2022/11/Quiz-Night.jpg
END:VEVENT
BEGIN:VEVENT
DTSTART;VALUE=DATE:20260520
DTEND;VALUE=DATE:20260521
DTSTAMP:20260419T141843
CREATED:20230328T155744Z
LAST-MODIFIED:20250107T101704Z
UID:10002732-1779235200-1779321599@twothirdsbeer.co
SUMMARY:2-4-1 Burgers - Every Wednesday 🍔
DESCRIPTION:Join us every Wednesday for Schnitzel Club!\n\nThat’s 2-4-1 on ALL Schnitzel dishes\, all Wednesday\, every Wednesday. \nSo scrap your midweek plans\, grab a pal & we’ll see you down here for 2-4-1 burgers – all night long!
URL:https://twothirdsbeer.co/bar/event/schnitzel-club-%f0%9f%90%93-2/2026-05-20/
LOCATION:Two Thirds Beer Co\, 434-436 Abbeydale Road\, Sheffield\, S7 1FQ\, United Kingdom
CATEGORIES:Regular Fixtures
ATTACH;FMTTYPE=image/jpeg:https://twothirdsbeer.co/bar/wp-content/uploads/sites/3/2023/12/2-4-1-Burgers-Buy-One-Get-One-Free-at-Two-Thirds-Sheffield.jpg
END:VEVENT
BEGIN:VEVENT
DTSTART;TZID=Europe/London:20260523T120000
DTEND;TZID=Europe/London:20260523T160000
DTSTAMP:20260419T141843
CREATED:20231215T124142Z
LAST-MODIFIED:20250107T102552Z
UID:10004370-1779537600-1779552000@twothirdsbeer.co
SUMMARY:Bottomless Brunch
DESCRIPTION:Bottomless brunch done our way – 90 beautiful minutes of bottomless Craft Beers\, Prosecco\, Mimosas\, Aperol Spritz\, and Cocktails\, all soaked up with two courses of the finest street food from Holy Schnitz!
URL:https://twothirdsbeer.co/bar/event/bottomless-brunch-2/2026-05-23/
LOCATION:Two Thirds Beer Co\, 434-436 Abbeydale Road\, Sheffield\, S7 1FQ\, United Kingdom
CATEGORIES:Regular Fixtures
ATTACH;FMTTYPE=image/jpeg:https://twothirdsbeer.co/bar/wp-content/uploads/sites/3/2023/12/Bottomless-Brunch-Sheffield-on-Saturdays-at-Two-Thirds-1.jpg
END:VEVENT
BEGIN:VEVENT
DTSTART;TZID=Europe/London:20260524T120000
DTEND;TZID=Europe/London:20260524T160000
DTSTAMP:20260419T141843
CREATED:20231215T124348Z
LAST-MODIFIED:20250107T102532Z
UID:10004017-1779624000-1779638400@twothirdsbeer.co
SUMMARY:Bottomless Brunch
DESCRIPTION:Bottomless brunch done our way – 90 beautiful minutes of bottomless Craft Beers\, Prosecco\, Mimosas\, Aperol Spritz\, and Cocktails\, all soaked up with two courses of the finest street food from Holy Schnitz!
URL:https://twothirdsbeer.co/bar/event/bottomless-brunch-3/2026-05-24/
LOCATION:Two Thirds Beer Co\, 434-436 Abbeydale Road\, Sheffield\, S7 1FQ\, United Kingdom
CATEGORIES:Regular Fixtures
ATTACH;FMTTYPE=image/jpeg:https://twothirdsbeer.co/bar/wp-content/uploads/sites/3/2023/12/Bottomless-Brunch-Sheffield-on-Sundays-at-Two-Thirds-1.jpg
END:VEVENT
BEGIN:VEVENT
DTSTART;TZID=Europe/London:20260526T200000
DTEND;TZID=Europe/London:20260526T220000
DTSTAMP:20260419T141843
CREATED:20221104T124224Z
LAST-MODIFIED:20250212T150426Z
UID:10003251-1779825600-1779832800@twothirdsbeer.co
SUMMARY:Quiz Night - Every Tuesday!
DESCRIPTION:Sheffield’s finest pub quiz; free entry\, a picture round\, 20 questions of general knowledge\, stand up bingo with cash prizes\, oh\, and the prize if your team is victorious? Spin the wheel for a chance to win your ENTIRE bar tab paid off in full!
URL:https://twothirdsbeer.co/bar/event/quiz-night/2026-05-26/
LOCATION:Two Thirds Beer Co\, 434-436 Abbeydale Road\, Sheffield\, S7 1FQ\, United Kingdom
CATEGORIES:Regular Fixtures
ATTACH;FMTTYPE=image/jpeg:https://twothirdsbeer.co/bar/wp-content/uploads/sites/3/2022/11/Quiz-Night.jpg
END:VEVENT
BEGIN:VEVENT
DTSTART;VALUE=DATE:20260527
DTEND;VALUE=DATE:20260528
DTSTAMP:20260419T141843
CREATED:20230328T155744Z
LAST-MODIFIED:20250107T101704Z
UID:10002733-1779840000-1779926399@twothirdsbeer.co
SUMMARY:2-4-1 Burgers - Every Wednesday 🍔
DESCRIPTION:Join us every Wednesday for Schnitzel Club!\n\nThat’s 2-4-1 on ALL Schnitzel dishes\, all Wednesday\, every Wednesday. \nSo scrap your midweek plans\, grab a pal & we’ll see you down here for 2-4-1 burgers – all night long!
URL:https://twothirdsbeer.co/bar/event/schnitzel-club-%f0%9f%90%93-2/2026-05-27/
LOCATION:Two Thirds Beer Co\, 434-436 Abbeydale Road\, Sheffield\, S7 1FQ\, United Kingdom
CATEGORIES:Regular Fixtures
ATTACH;FMTTYPE=image/jpeg:https://twothirdsbeer.co/bar/wp-content/uploads/sites/3/2023/12/2-4-1-Burgers-Buy-One-Get-One-Free-at-Two-Thirds-Sheffield.jpg
END:VEVENT
BEGIN:VEVENT
DTSTART;TZID=Europe/London:20260530T120000
DTEND;TZID=Europe/London:20260530T160000
DTSTAMP:20260419T141843
CREATED:20231215T124142Z
LAST-MODIFIED:20250107T102552Z
UID:10004371-1780142400-1780156800@twothirdsbeer.co
SUMMARY:Bottomless Brunch
DESCRIPTION:Bottomless brunch done our way – 90 beautiful minutes of bottomless Craft Beers\, Prosecco\, Mimosas\, Aperol Spritz\, and Cocktails\, all soaked up with two courses of the finest street food from Holy Schnitz!
URL:https://twothirdsbeer.co/bar/event/bottomless-brunch-2/2026-05-30/
LOCATION:Two Thirds Beer Co\, 434-436 Abbeydale Road\, Sheffield\, S7 1FQ\, United Kingdom
CATEGORIES:Regular Fixtures
ATTACH;FMTTYPE=image/jpeg:https://twothirdsbeer.co/bar/wp-content/uploads/sites/3/2023/12/Bottomless-Brunch-Sheffield-on-Saturdays-at-Two-Thirds-1.jpg
END:VEVENT
BEGIN:VEVENT
DTSTART;TZID=Europe/London:20260531T120000
DTEND;TZID=Europe/London:20260531T160000
DTSTAMP:20260419T141843
CREATED:20231215T124348Z
LAST-MODIFIED:20250107T102532Z
UID:10004018-1780228800-1780243200@twothirdsbeer.co
SUMMARY:Bottomless Brunch
DESCRIPTION:Bottomless brunch done our way – 90 beautiful minutes of bottomless Craft Beers\, Prosecco\, Mimosas\, Aperol Spritz\, and Cocktails\, all soaked up with two courses of the finest street food from Holy Schnitz!
URL:https://twothirdsbeer.co/bar/event/bottomless-brunch-3/2026-05-31/
LOCATION:Two Thirds Beer Co\, 434-436 Abbeydale Road\, Sheffield\, S7 1FQ\, United Kingdom
CATEGORIES:Regular Fixtures
ATTACH;FMTTYPE=image/jpeg:https://twothirdsbeer.co/bar/wp-content/uploads/sites/3/2023/12/Bottomless-Brunch-Sheffield-on-Sundays-at-Two-Thirds-1.jpg
END:VEVENT
BEGIN:VEVENT
DTSTART;TZID=Europe/London:20260602T200000
DTEND;TZID=Europe/London:20260602T220000
DTSTAMP:20260419T141843
CREATED:20221104T124224Z
LAST-MODIFIED:20250212T150426Z
UID:10003252-1780430400-1780437600@twothirdsbeer.co
SUMMARY:Quiz Night - Every Tuesday!
DESCRIPTION:Sheffield’s finest pub quiz; free entry\, a picture round\, 20 questions of general knowledge\, stand up bingo with cash prizes\, oh\, and the prize if your team is victorious? Spin the wheel for a chance to win your ENTIRE bar tab paid off in full!
URL:https://twothirdsbeer.co/bar/event/quiz-night/2026-06-02/
LOCATION:Two Thirds Beer Co\, 434-436 Abbeydale Road\, Sheffield\, S7 1FQ\, United Kingdom
CATEGORIES:Regular Fixtures
ATTACH;FMTTYPE=image/jpeg:https://twothirdsbeer.co/bar/wp-content/uploads/sites/3/2022/11/Quiz-Night.jpg
END:VEVENT
BEGIN:VEVENT
DTSTART;VALUE=DATE:20260603
DTEND;VALUE=DATE:20260604
DTSTAMP:20260419T141843
CREATED:20230328T155744Z
LAST-MODIFIED:20250107T101704Z
UID:10002734-1780444800-1780531199@twothirdsbeer.co
SUMMARY:2-4-1 Burgers - Every Wednesday 🍔
DESCRIPTION:Join us every Wednesday for Schnitzel Club!\n\nThat’s 2-4-1 on ALL Schnitzel dishes\, all Wednesday\, every Wednesday. \nSo scrap your midweek plans\, grab a pal & we’ll see you down here for 2-4-1 burgers – all night long!
URL:https://twothirdsbeer.co/bar/event/schnitzel-club-%f0%9f%90%93-2/2026-06-03/
LOCATION:Two Thirds Beer Co\, 434-436 Abbeydale Road\, Sheffield\, S7 1FQ\, United Kingdom
CATEGORIES:Regular Fixtures
ATTACH;FMTTYPE=image/jpeg:https://twothirdsbeer.co/bar/wp-content/uploads/sites/3/2023/12/2-4-1-Burgers-Buy-One-Get-One-Free-at-Two-Thirds-Sheffield.jpg
END:VEVENT
BEGIN:VEVENT
DTSTART;TZID=Europe/London:20260606T120000
DTEND;TZID=Europe/London:20260606T160000
DTSTAMP:20260419T141843
CREATED:20231215T124142Z
LAST-MODIFIED:20250107T102552Z
UID:10004372-1780747200-1780761600@twothirdsbeer.co
SUMMARY:Bottomless Brunch
DESCRIPTION:Bottomless brunch done our way – 90 beautiful minutes of bottomless Craft Beers\, Prosecco\, Mimosas\, Aperol Spritz\, and Cocktails\, all soaked up with two courses of the finest street food from Holy Schnitz!
URL:https://twothirdsbeer.co/bar/event/bottomless-brunch-2/2026-06-06/
LOCATION:Two Thirds Beer Co\, 434-436 Abbeydale Road\, Sheffield\, S7 1FQ\, United Kingdom
CATEGORIES:Regular Fixtures
ATTACH;FMTTYPE=image/jpeg:https://twothirdsbeer.co/bar/wp-content/uploads/sites/3/2023/12/Bottomless-Brunch-Sheffield-on-Saturdays-at-Two-Thirds-1.jpg
END:VEVENT
BEGIN:VEVENT
DTSTART;TZID=Europe/London:20260607T120000
DTEND;TZID=Europe/London:20260607T160000
DTSTAMP:20260419T141843
CREATED:20231215T124348Z
LAST-MODIFIED:20250107T102532Z
UID:10004019-1780833600-1780848000@twothirdsbeer.co
SUMMARY:Bottomless Brunch
DESCRIPTION:Bottomless brunch done our way – 90 beautiful minutes of bottomless Craft Beers\, Prosecco\, Mimosas\, Aperol Spritz\, and Cocktails\, all soaked up with two courses of the finest street food from Holy Schnitz!
URL:https://twothirdsbeer.co/bar/event/bottomless-brunch-3/2026-06-07/
LOCATION:Two Thirds Beer Co\, 434-436 Abbeydale Road\, Sheffield\, S7 1FQ\, United Kingdom
CATEGORIES:Regular Fixtures
ATTACH;FMTTYPE=image/jpeg:https://twothirdsbeer.co/bar/wp-content/uploads/sites/3/2023/12/Bottomless-Brunch-Sheffield-on-Sundays-at-Two-Thirds-1.jpg
END:VEVENT
BEGIN:VEVENT
DTSTART;TZID=Europe/London:20260609T200000
DTEND;TZID=Europe/London:20260609T220000
DTSTAMP:20260419T141843
CREATED:20221104T124224Z
LAST-MODIFIED:20250212T150426Z
UID:10003253-1781035200-1781042400@twothirdsbeer.co
SUMMARY:Quiz Night - Every Tuesday!
DESCRIPTION:Sheffield’s finest pub quiz; free entry\, a picture round\, 20 questions of general knowledge\, stand up bingo with cash prizes\, oh\, and the prize if your team is victorious? Spin the wheel for a chance to win your ENTIRE bar tab paid off in full!
URL:https://twothirdsbeer.co/bar/event/quiz-night/2026-06-09/
LOCATION:Two Thirds Beer Co\, 434-436 Abbeydale Road\, Sheffield\, S7 1FQ\, United Kingdom
CATEGORIES:Regular Fixtures
ATTACH;FMTTYPE=image/jpeg:https://twothirdsbeer.co/bar/wp-content/uploads/sites/3/2022/11/Quiz-Night.jpg
END:VEVENT
END:VCALENDAR